BEGIN:VCALENDAR
VERSION:2.0
PRODID:-//Cuore di Loto - ECPv6.15.20//NONSGML v1.0//EN
CALSCALE:GREGORIAN
METHOD:PUBLISH
X-WR-CALNAME:Cuore di Loto
X-ORIGINAL-URL:https://cuorediloto.ch
X-WR-CALDESC:Eventi per Cuore di Loto
REFRESH-INTERVAL;VALUE=DURATION:PT1H
X-Robots-Tag:noindex
X-PUBLISHED-TTL:PT1H
BEGIN:VTIMEZONE
TZID:UTC
BEGIN:STANDARD
TZOFFSETFROM:+0000
TZOFFSETTO:+0000
TZNAME:UTC
DTSTART:20250101T000000
END:STANDARD
END:VTIMEZONE
BEGIN:VEVENT
DTSTART;TZID=UTC:20260531T090000
DTEND;TZID=UTC:20260531T160000
DTSTAMP:20260421T144020
CREATED:20260415T140339Z
LAST-MODIFIED:20260415T140511Z
UID:1851-1780218000-1780243200@cuorediloto.ch
SUMMARY:Concinnitas Prosperitatis - libera il flusso della prosperità
DESCRIPTION:Per poter vivere il denaro in modo armonioso\, non basta cercare di guadagnare di più o trattenere meglio. \nÈ necessario osservare e trasformare la relazione che abbiamo con esso. \nConcinnitas prosperitatis permette di riportare equilibrio nel modo in cui il denaro si muove nella nostra vita\, integrando ciò che è rimasto in sospeso per poter riattivare un flusso più naturale e coerente. \nQuando il denaro viene trattenuto per paura o disperso senza valore\, il suo movimento si interrompe. \nPossono emergere sensi di colpa\, dinamiche di debito\, fedeltà familiari o schemi inconsci che portano a blocchi\, perdite o difficoltà nel ricevere. \nSpesso si cerca di cambiare la propria situazione economica agendo solo all’esterno\, senza considerare ciò che\, a livello più profondo\, continua a influenzare il rapporto con il denaro. \nVuoi trasformare davvero la tua relazione con il denaro? \nFai il primo passo. \nIn questo approccio integrato\, le tecniche non sono strumenti separati ma voci che dialogano tra loro\, sostenendosi a vicenda per accompagnarti verso un nuovo equilibrio tra dare e ricevere\, valore e movimento.
URL:https://cuorediloto.ch/evento/prosperita/
LOCATION:Cuore di Loto di Prisca Stanga-Rizzi\, via San Gottardo 140\, Pollegio\, ticino\, 6742\, Switzerland
CATEGORIES:GRUPPO
ATTACH;FMTTYPE=image/webp:https://cuorediloto.ch/wp-content/uploads/Abbondanza.webp
ORGANIZER;CN="Cuore di Loto":MAILTO:studio@cuorediloto.ch
END:VEVENT
END:VCALENDAR